BEGIN:VCALENDAR
VERSION:2.0
CALSCALE:GREGORIAN
PRODID:adamgibbons/ics
METHOD:PUBLISH
X-PUBLISHED-TTL:PT1H
BEGIN:VEVENT
UID:kirwa-2141-kirwa
SUMMARY:Breitenbrunner Kirwa 2026
DTSTAMP:20260421T084727Z
DTSTART;VALUE=DATE:20260829
DTEND;VALUE=DATE:20260901
URL:https://kirwa-gemeinde.de/event/2141-breitenbrunner-kirwa-2026
GEO:0;0
LOCATION:Breitenbrunn\, Breitenbrunn\, 92237 Sulzbach-Rosenberg
X-MICROSOFT-CDO-BUSYSTATUS:FREE
END:VEVENT
END:VCALENDAR
