BEGIN:VCALENDAR
VERSION:2.0
CALSCALE:GREGORIAN
PRODID:adamgibbons/ics
METHOD:PUBLISH
X-PUBLISHED-TTL:PT1H
BEGIN:VEVENT
UID:kirwa-2139-kirwa
SUMMARY:Fürnrieder Kirwa 2026
DTSTAMP:20260421T084103Z
DTSTART;VALUE=DATE:20260515
DTEND;VALUE=DATE:20260518
URL:https://kirwa-gemeinde.de/event/2139-fuernrieder-kirwa-2026
GEO:49.457099;11.597765
LOCATION:Fürnried\, Fürnried\, 92262 Birgland
X-MICROSOFT-CDO-BUSYSTATUS:FREE
END:VEVENT
END:VCALENDAR
