BEGIN:VCALENDAR
VERSION:2.0
CALSCALE:GREGORIAN
PRODID:adamgibbons/ics
METHOD:PUBLISH
X-PUBLISHED-TTL:PT1H
BEGIN:VEVENT
UID:kirwa-2112-kirwa
SUMMARY:Burgstaller Kirwa 2026
DTSTAMP:20260421T083754Z
DTSTART;VALUE=DATE:20260711
DTEND;VALUE=DATE:20260714
URL:https://kirwa-gemeinde.de/event/2112-burgstaller-kirwa-2026
GEO:49.532036;11.887954
LOCATION:Burgstall\, Burgstall\, 92242 Hirschau
X-MICROSOFT-CDO-BUSYSTATUS:FREE
END:VEVENT
END:VCALENDAR
