BEGIN:VCALENDAR
VERSION:2.0
CALSCALE:GREGORIAN
PRODID:adamgibbons/ics
METHOD:PUBLISH
X-PUBLISHED-TTL:PT1H
BEGIN:VEVENT
UID:kirwa-1922-kirwa
SUMMARY:Raigeringer Kirwa 2024
DTSTAMP:20260421T084833Z
DTSTART;VALUE=DATE:20240724
DTEND;VALUE=DATE:20240731
URL:https://kirwa-gemeinde.de/event/1922-raigeringer-kirwa-2024
GEO:49.458238;11.896256
LOCATION:Raigering\, Hofmark 2\, 92224 Amberg
X-MICROSOFT-CDO-BUSYSTATUS:FREE
END:VEVENT
END:VCALENDAR
