BEGIN:VCALENDAR
VERSION:2.0
CALSCALE:GREGORIAN
PRODID:adamgibbons/ics
METHOD:PUBLISH
X-PUBLISHED-TTL:PT1H
BEGIN:VEVENT
UID:kirwa-1775-kirwa
SUMMARY:Oberkrumbacher Kirwa 2023
DTSTAMP:20260422T082905Z
DTSTART;VALUE=DATE:20230623
DTEND;VALUE=DATE:20230627
DESCRIPTION:Gigantisches Fest mit den Geilsten DJ im Lande\, der sogenannte
	 Disc Jockey Dokter legt das ganze Zelt Flach!
URL:https://kirwa-gemeinde.de/event/1775-oberkrumbacher-kirwa-2023
GEO:49.54499999999999;11.3976491
LOCATION:Oberkrumbach\, Oberkrumbach 9\, 91241 Kirchensittenbach
X-MICROSOFT-CDO-BUSYSTATUS:FREE
END:VEVENT
END:VCALENDAR
