BEGIN:VCALENDAR
VERSION:2.0
CALSCALE:GREGORIAN
PRODID:adamgibbons/ics
METHOD:PUBLISH
X-PUBLISHED-TTL:PT1H
BEGIN:VEVENT
UID:kirwa-1753-kirwa
SUMMARY:Berger Kirwa 2023
DTSTAMP:20260422T083007Z
DTSTART;VALUE=DATE:20230617
DTEND;VALUE=DATE:20230620
DESCRIPTION:Samstag\, 17.06.202311:00 Baumaufstellen19:00 Festbetrieb20:00 
	Kirwaparty mit donnaweda\n \nSonntag\, 18.06.202309:30 Gottesdienst\, dana
	ch Frühschoppen mit "JaWoi"11:00 Mittagessen vom "Goldenen Hirschen"14:00 
	Festbetrieb mit Kaffee und Kuchen16:00 Baumaustanzen (Kirwakinder und Kirw
	apaare)18:00 Kirwagaudi mit Campfire\n \nMontag\, 19.06.202319:00 Festbetr
	ieb20:00 Kirwaparty mit Grögötz Weißbir22:00 Kirwabaum Versteigerung\n \nE
	intritt an allen drei Tagen frei!Der Schützenverein Berg sorgt für das lei
	bliche Wohl.\nWir freuen uns auf euch\, die Kirwaboum &amp\; -moila Berg
URL:https://kirwa-gemeinde.de/event/1753-berger-kirwa-2023
GEO:49.330492;11.438448
LOCATION:Berg\, Berg\, 92348 Berg bei Neumarkt i.d. Oberpfalz
X-MICROSOFT-CDO-BUSYSTATUS:FREE
END:VEVENT
END:VCALENDAR
