BEGIN:VCALENDAR
VERSION:2.0
CALSCALE:GREGORIAN
PRODID:adamgibbons/ics
METHOD:PUBLISH
X-PUBLISHED-TTL:PT1H
BEGIN:VEVENT
UID:kirwa-1584-kirwa
SUMMARY:Oberbuchfelder Kirwa 2022
DTSTAMP:20260421T082626Z
DTSTART;VALUE=DATE:20220723
DTEND;VALUE=DATE:20220727
URL:https://kirwa-gemeinde.de/event/1584-oberbuchfelder-kirwa-2022
GEO:49.2512129;11.5580856
LOCATION:Oberbuchfeld\, Oberbuchfeld\, 92364 Deining
X-MICROSOFT-CDO-BUSYSTATUS:FREE
END:VEVENT
END:VCALENDAR
