BEGIN:VCALENDAR
VERSION:2.0
CALSCALE:GREGORIAN
PRODID:adamgibbons/ics
METHOD:PUBLISH
X-PUBLISHED-TTL:PT1H
BEGIN:VEVENT
UID:kirwa-1577-kirwa
SUMMARY:Großenfalzer Dorfkirwa 2022
DTSTAMP:20260421T084833Z
DTSTART;VALUE=DATE:20220611
DTEND;VALUE=DATE:20220615
DESCRIPTION:Freitag\, 10.06.202219:00 SchlachtschüsselessenSamstag\, 11.06.
	202213:00 Kirwabaum aufstellen19:00 "Saba Z'Dreckad"Sonntag\, 12.06.202210
	:30 Frühschoppen und Mittagstisch mit Spanferkel vom Grill und vielem mehr
	16:00 Kirwabaum austanzen mit In Oiner DurMontag\, 13.06.202210:00 Frühsch
	oppen und Mittagstisch13:00 Kirwabärentreiben durch's Dorf17:00 Boarisch'n
	 BoumBarbetrieb an allen Tagen\, Einlass ab 18 Jahren!Die Groußafalzer Kir
	waleit freuen sich auf Euer Kommen.
URL:https://kirwa-gemeinde.de/event/1577-groenfalzer-dorfkirwa-2022
GEO:49.536942;11.804907
LOCATION:Großenfalz\, Vilsecker Straße 3\, 92237 Sulzbach-Rosenberg
X-MICROSOFT-CDO-BUSYSTATUS:FREE
END:VEVENT
END:VCALENDAR
