BEGIN:VCALENDAR
VERSION:2.0
CALSCALE:GREGORIAN
PRODID:adamgibbons/ics
METHOD:PUBLISH
X-PUBLISHED-TTL:PT1H
BEGIN:VEVENT
UID:kirwa-1401-kirwa
SUMMARY:Weiherhammerer Kirwa 2019
DTSTAMP:20260422T082946Z
DTSTART;VALUE=DATE:20191026
DTEND;VALUE=DATE:20191029
DESCRIPTION:Auf geht's zur Weiherhammer Zeltkirwa!\nFreitag\, 25.10.201918:
	00 Kirwa WarmUp mit Keine Ahnung Band\nSamstag\, 26.10.201918:00 Party mit
	 den Pina Coladas\nSonntag\, 27.10.201912:00 Mittagessen unter Vorbestellu
	ng16:30 Tänze der Kirwapaare und Kirwakids
URL:https://kirwa-gemeinde.de/event/1401-weiherhammerer-kirwa-2019
GEO:49.6354199;12.0524789
LOCATION:Weiherhammer\, Florianstraße\, 92729 Weiherhammer
X-MICROSOFT-CDO-BUSYSTATUS:FREE
END:VEVENT
END:VCALENDAR
