BEGIN:VCALENDAR
VERSION:2.0
CALSCALE:GREGORIAN
PRODID:adamgibbons/ics
METHOD:PUBLISH
X-PUBLISHED-TTL:PT1H
BEGIN:VEVENT
UID:kirwa-1181-kirwa
SUMMARY:Axtheid-Berger Kirwa 2018
DTSTAMP:20260422T082646Z
DTSTART;VALUE=DATE:20180520
DTEND;VALUE=DATE:20180523
URL:https://kirwa-gemeinde.de/event/1181-axtheid-berger-kirwa-2018
GEO:49.62188;11.8206
LOCATION:Axtheid-Berg\, Festplatz Axtheid-Berg\, 92249 Vilseck
X-MICROSOFT-CDO-BUSYSTATUS:FREE
END:VEVENT
END:VCALENDAR
